BEGIN:VCALENDAR
VERSION:2.0
PRODID:Fort Bend County, TX Calendar Creator
METHOD:PUBLISH
BEGIN:VEVENT
DTSTAMP:20251031T112501
DTSTART:20251101T010000
DTEND:20251101T050000
SUMMARY:Immunization Outreach Event - Rosenberg Saturday Clinic
DESCRIPTION:<table border="1" cellpadding="1" cellspacing="1" style="width: 100%;">
	<thead>
		<tr>
			<th scope="col">Staff</th>
			<th scope="col">Mobile Health Unit</th>
			<th scope="col">Service</th>
	
CLASS:PUBLIC
END:VEVENT
END:VCALENDAR
